Workbook

Sheet warning
A1: real | B1: data belonging to real sector transactions
A2: acc | B2: data belonging to accumulation accounts | H2: Total number of time series | I2: Obs
A3: urflow | B3: uses-resources + flow table (tableau économique d'ensemble) | H3: =COUNTA(real!B10:XFD10)+COUNTA(acc!B10:XFD10) -> 1409 | I3: =H3*(2021-1979) -> 59178
A4: acc_table | B4: balance sheet + tables for flows, revaluations and other changes in volume
A10: line source | B10: DAA | C10: Detailed Accounts of Agents
A11: line time series | B11: variable ending in h | C11: Households only
B12: variable ending in n | C12: Non Profit Institutions Serving Households
B13: CDP | C13: Comptes de Patrimoine
B14: fcc | C14: fixed capital consumption (depreciation)
B16: bis | C16: data series that are modelled subsequently based on the assumptions taken

Sheet real
A1: source | B1: INSEE T_1102 | C1: INSEE T_1102 | D1: computed | E1: INSEE T_1102 | F1: INSEE T_1102 | G1: INSEE T_1102 | H1: INSEE T_1102 | I1: INSEE T_1102 | J1: INSEE T_1102 | K1: INSEE T_1102 | L1: INSEE T_1102 | M1: computed | N1: INSEE T_1102 | O1: INSEE T_1102 | P1: INSEE T_1102 | Q1: INSEE T_1101 | R1: INSEE T_1101 | S1: computed | T1: INSEE T_1101 | U1: INSEE T_1101 | V1: INSEE T_1101 | W1: INSEE T_1101 | X1: INSEE T_1101 | Y1: INSEE T_1101 | Z1: INSEE T_1101 | AA1: INSEE T_1101 | AB1: computed | AC1: INSEE T_1101 | AD1: INSEE T_1101 | AE1: INSEE T_1101 | AF1: computed | AG1: computed | AH1: computed | AI1: computed | AJ1: computed | AK1: computed | AL1: computed | AM1: computed | AN1: computed | AO1: computed | AP1: computed | AQ1: computed | AR1: computed | AS1: computed | AT1: computed | AU1: computed | AV1: INSEE DAA | AW1: INSEE DAA | AX1: INSEE DAA | AY1: INSEE DAA | AZ1: INSEE DAA | BA1: INSEE DAA | BB1: computed | BC1: INSEE DAA | BD1: INSEE DAA | BE1: computed | BF1: INSEE DAA | BG1: INSEE DAA | BH1: INSEE DAA | BI1: INSEE DAA | BJ1: INSEE DAA | BK1: INSEE DAA | BL1: INSEE DAA | BM1: INSEE DAA | BN1: INSEE DAA | BO1: INSEE DAA | BP1: INSEE DAA | BQ1: INSEE DAA | BR1: INSEE DAA | BS1: computed | BT1: INSEE DAA | BU1: INSEE DAA | BV1: computed | BW1: computed | BX1: INSEE DAA | BY1: computed | BZ1: INSEE DAA | CA1: computed | CB1: INSEE DAA | CC1: INSEE DAA | CD1: computed | CE1: computed | CF1: INSEE DAA | CG1: INSEE DAA | CH1: INSEE DAA | CI1: INSEE DAA | CJ1: computed | CK1: computed | CL1: INSEE DAA | CM1: INSEE DAA | CN1: computed | CO1: computed | CP1: INSEE DAA | CQ1: INSEE DAA | CR1: INSEE DAA | CS1: INSEE DAA | CT1: INSEE DAA | CU1: INSEE DAA | CV1: INSEE DAA | CW1: INSEE DAA | CX1: INSEE DAA | CY1: INSEE DAA | CZ1: computed | DA1: INSEE DAA | DB1: INSEE DAA | DC1: computed | DD1: INSEE DAA | DE1: INSEE DAA | DF1: INSEE DAA | DG1: computed | DH1: INSEE DAA | DI1: computed | DJ1: INSEE DAA | DK1: computed | DL1: INSEE DAA | DM1: INSEE DAA | DN1: computed | DO1: INSEE DAA | DP1: computed | DQ1: INSEE DAA | DR1: INSEE DAA | DS1: computed | DT1: INSEE DAA | DU1: INSEE DAA | DV1: INSEE DAA | DW1: computed | DX1: INSEE DAA | DY1: INSEE DAA | DZ1: INSEE DAA | EA1: computed | EB1: INSEE DAA | EC1: INSEE DAA | ED1: computed | EE1: computed | EF1: INSEE DAA | EG1: computed | EH1: INSEE DAA | EI1: INSEE DAA | EJ1: INSEE DAA | EK1: computed | EL1: INSEE DAA | EM1: INSEE DAA | EN1: INSEE DAA | EO1: INSEE DAA | EP1: computed | EQ1: computed | ER1: INSEE DAA | ES1: INSEE DAA | ET1: computed | EU1: computed | EV1: INSEE DAA | EW1: INSEE DAA | EX1: INSEE DAA | EY1: INSEE DAA | EZ1: INSEE DAA | FA1: INSEE DAA | FB1: INSEE DAA | FC1: INSEE DAA | FD1: INSEE DAA | FE1: computed | FF1: INSEE DAA | FG1: INSEE DAA | FH1: computed | FI1: INSEE DAA | FJ1: INSEE DAA | FK1: INSEE DAA | FL1: INSEE DAA | FM1: INSEE DAA | FN1: computed | FO1: INSEE DAA | FP1: INSEE DAA | FQ1: computed | FR1: INSEE DAA | FS1: INSEE DAA | FT1: INSEE DAA | FU1: INSEE DAA | FV1: INSEE DAA | FW1: INSEE DAA | FX1: computed | FY1: INSEE DAA | FZ1: INSEE DAA | GA1: computed | GB1: INSEE DAA | GC1: INSEE DAA | GD1: computed | GE1: computed | GF1: INSEE DAA | GG1: INSEE DAA | GH1: INSEE DAA | GI1: computed | GJ1: INSEE DAA | GK1: INSEE DAA | GL1: INSEE DAA | GM1: INSEE DAA | GN1: computed | GO1: computed | GP1: INSEE DAA | GQ1: computed | GR1: computed | GS1: INSEE DAA | GT1: INSEE DAA | GU1: INSEE DAA | GV1: computed | GW1: INSEE DAA | GX1: INSEE DAA | GY1: INSEE DAA | GZ1: INSEE DAA | HA1: INSEE DAA | HB1: computed | HC1: computed | HD1: INSEE DAA | HE1: INSEE DAA | HF1: INSEE DAA | HG1: computed | HH1: INSEE DAA | HI1: INSEE DAA | HJ1: INSEE DAA | HK1: INSEE DAA | HL1: computed | HM1: computed | HN1: INSEE DAA | HO1: INSEE DAA | HP1: computed | HQ1: computed | HR1: INSEE DAA | HS1: INSEE DAA | HT1: INSEE DAA | HU1: INSEE DAA | HV1: INSEE DAA | HW1: INSEE DAA | HX1: INSEE DAA | HY1: INSEE DAA | HZ1: INSEE DAA | IA1: computed | IB1: INSEE DAA | IC1: INSEE DAA | ID1: computed | IE1: INSEE DAA | IF1: INSEE DAA | IG1: computed | IH1: INSEE DAA | II1: INSEE DAA | IJ1: computed | IK1: INSEE DAA | IL1: INSEE DAA | IM1: computed | IN1: INSEE DAA | IO1: INSEE DAA | IP1: computed | IQ1: INSEE DAA | IR1: INSEE DAA | IS1: computed | IT1: computed | IU1: INSEE DAA | IV1: INSEE DAA | IW1: computed | IX1: INSEE DAA | IY1: INSEE DAA | IZ1: computed | JA1: INSEE DAA | JB1: computed | JC1: INSEE DAA | JD1: INSEE DAA | JE1: computed | JF1: INSEE DAA | JG1: INSEE DAA | JH1: computed | JI1: INSEE DAA | JJ1: computed | JK1: INSEE DAA | JL1: INSEE DAA | JM1: computed | JN1: INSEE DAA | JO1: computed | JP1: INSEE DAA | JQ1: INSEE DAA | JR1: computed | JS1: INSEE DAA | JT1: computed | JU1: INSEE DAA | JV1: INSEE DAA | JW1: INSEE DAA | JX1: computed | JY1: computed | JZ1: INSEE DAA | KA1: INSEE DAA | KB1: computed | KC1: INSEE DAA | KD1: INSEE DAA | KE1: computed | KF1: computed | KG1: computed | KH1: INSEE DAA | KI1: INSEE DAA | KJ1: computed | KK1: INSEE DAA | KL1: INSEE DAA | KM1: INSEE DAA | KN1: computed | KO1: INSEE DAA | KP1: computed | KQ1: computed | KR1: INSEE DAA | KS1: INSEE DAA | KT1: computed | KU1: INSEE DAA | KV1: INSEE DAA | KW1: computed | KX1: computed | KY1: computed | KZ1: INSEE DAA | LA1: INSEE DAA | LB1: computed | LC1: INSEE DAA | LD1: INSEE DAA | LE1: computed | LF1: INSEE DAA | LG1: INSEE DAA | LH1: computed | LI1: INSEE DAA | LJ1: INSEE DAA | LK1: computed | LL1: INSEE DAA | LM1: INSEE DAA | LN1: computed | LO1: computed | LP1: computed | LQ1: INSEE DAA | LR1: INSEE DAA | LS1: computed | LT1: INSEE DAA | LU1: computed | LV1: computed | LW1: INSEE DAA | LX1: INSEE DAA | LY1: computed | LZ1: INSEE DAA | MA1: computed | MB1: INSEE DAA | MC1: computed | MD1: INSEE DAA | ME1: computed | MF1: INSEE DAA | MG1: INSEE DAA | MH1: computed | MI1: INSEE DAA | MJ1: INSEE DAA | MK1: INSEE DAA | ML1: INSEE DAA | MM1: INSEE DAA | MN1: computed | MO1: INSEE DAA | MP1: INSEE DAA | MQ1: INSEE DAA | MR1: INSEE DAA | MS1: INSEE DAA | MT1: computed | MU1: INSEE DAA | MV1: INSEE DAA | MW1: INSEE DAA | MX1: INSEE DAA | MY1: computed | MZ1: INSEE DAA | NA1: computed | NB1: INSEE DAA | NC1: INSEE DAA | ND1: computed | NE1: INSEE DAA | NF1: computed | NG1: INSEE DAA | NH1: INSEE DAA | NI1: INSEE DAA | NJ1: INSEE DAA | NK1: computed | NL1: computed | NM1: INSEE DAA | NN1: INSEE DAA | NO1: INSEE DAA | NP1: computed | NQ1: INSEE DAA | NR1: INSEE DAA | NS1: INSEE DAA | NT1: computed | NU1: INSEE DAA | NV1: computed | NW1: INSEE DAA | NX1: INSEE DAA | NY1: INSEE DAA | NZ1: INSEE DAA | OA1: INSEE DAA | OB1: INSEE DAA | OC1: computed | OD1: INSEE DAA | OE1: INSEE DAA | OF1: computed | OG1: INSEE DAA | OH1: INSEE DAA | OI1: INSEE DAA | OJ1: computed | OK1: INSEE DAA | OL1: INSEE DAA | OM1: INSEE DAA | ON1: INSEE DAA | OO1: INSEE DAA | OP1: computed | OQ1: computed | OR1: INSEE DAA | OS1: INSEE DAA | OT1: computed | OU1: INSEE DAA | OV1: INSEE DAA | OW1: computed | OX1: INSEE DAA | OY1: INSEE t_pib_val | OZ1: computed | PA1: computed | PB1: computed | PC1: OECD | PD1: Eurostat | PE1: World Bank/BdF | PF1: BdF | PG1: computed | PH1: computed | PI1: computed | PJ1: computed | PK1: computed | PL1: computed | PM1: LBMA | PN1: macrotrends | PO1: OECD | PP1: INSEE | PQ1: computed | PR1: computed | PS1: computed | PT1: INSEE CpteEmploi | PU1: INSEE CpteEmploi | PV1: INSEE CpteEmploi | PW1: INSEE CpteEmploi | PX1: INSEE CpteEmploi | PY1: computed | PZ1: INSEE CpteEmploi | QA1: INSEE CpteEmploi | QB1: INSEE CpteEmploi | QC1: INSEE CpteEmploi | QD1: INSEE CpteEmploi | QE1: INSEE CpteEmploi | QF1: INSEE CpteEmploi | QG1: INSEE CpteEmploi | QH1: INSEE CpteEmploi | QI1: INSEE CpteEmploi | QJ1: INSEE CpteEmploi | QK1: INSEE CpteEmploi | QL1: INSEE CpteEmploi | QM1: INSEE CpteEmploi | QN1: IMF WEO | QO1: INSEE | QP1: INSEE | QQ1: INSEE | QR1: computed | QS1: WB | QT1: computed | QU1: computed | QV1: Banque de France | QW1: OECD | QX1: OECD computed | QY1: WB WDI | QZ1: ECB | RA1: BIS | RB1: BIS | RC1: WB WDI | RD1: OECD | RE1: OECD | RF1: BIS | RG1: BIS | RH1: computed | RI1: computed | RJ1: WB WDI | RL1: =W1 -> INSEE T_1101 | RM1: =CP1 -> INSEE DAA | RN1: computed | RO1: computed
A2: unit | B2: billion | C2: billion | D2: billion | E2: billion | F2: billion | G2: billion | H2: billion | I2: billion | J2: billion | K2: billion | L2: billion | M2: billion | N2: billion | O2: billion | P2: billion | Q2: billion | R2: billion | S2: billion | T2: billion | U2: billion | V2: billion | W2: billion | X2: billion | Y2: billion | Z2: billion | AA2: billion | AB2: billion | AC2: billion | AD2: billion | AE2: billion | AF2: base | AG2: base | AH2: base | AI2: base | AJ2: base | AK2: base | AL2: base | AM2: base | AN2: base | AO2: base | AP2: base | AQ2: base | AR2: base | AS2: base | AT2: base | AU2: base | AV2: billion | AW2: billion | AX2: billion | AY2: billion | AZ2: billion | BA2: billion | BB2: billion | BC2: billion | BD2: billion | BE2: billion | BF2: billion | BG2: billion | BH2: billion | BI2: billion | BJ2: billion | BK2: billion | BL2: billion | BM2: billion | BN2: billion | BO2: billion | BP2: billion | BQ2: billion | BR2: billion | BS2: billion | BT2: billion | BU2: billion | BV2: billion | BW2: billion | BX2: billion | BY2: billion | BZ2: billion | CA2: billion | CB2: billion | CC2: billion | CD2: billion | CE2: billion | CF2: billion | CG2: billion | CH2: billion | CI2: billion | CJ2: billion | CK2: billion | CL2: billion | CM2: billion | CN2: billion | CO2: billion | CP2: billion | CQ2: billion | CR2: billion | CS2: billion | CT2: billion | CU2: billion | CV2: billion | CW2: billion | CX2: billion | CY2: billion | CZ2: billion | DA2: billion | DB2: billion | DC2: billion | DD2: billion | DE2: billion | DF2: billion | DG2: billion | DH2: billion | DI2: billion | DJ2: billion | DK2: billion | DL2: billion | DM2: billion | DN2: billion | DO2: billion | DP2: billion | DQ2: billion | DR2: billion | DS2: billion | DT2: billion | DU2: billion | DV2: billion | DW2: billion | DX2: billion | DY2: billion | DZ2: billion | EA2: billion | EB2: billion | EC2: billion | ED2: billion | EE2: billion | EF2: billion | EG2: billion | EH2: billion | EI2: billion | EJ2: billion | EK2: billion | EL2: billion | EM2: billion | EN2: billion | EO2: billion | EP2: billion | EQ2: billion | ER2: billion | ES2: billion | ET2: billion | EU2: billion | EV2: billion | EW2: billion | EX2: billion | EY2: billion | EZ2: billion | FA2: billion | FB2: billion | FC2: billion | FD2: billion | FE2: billion | FF2: billion | FG2: billion | FH2: billion | FI2: billion | FJ2: billion | FK2: billion | FL2: billion | FM2: billion | FN2: billion | FO2: billion | FP2: billion | FQ2: billion | FR2: billion | FS2: billion | FT2: billion | FU2: billion | FV2: billion | FW2: billion | FX2: billion | FY2: billion | FZ2: billion | GA2: billion | GB2: billion | GC2: billion | GD2: billion | GE2: billion | GF2: billion | GG2: billion | GH2: billion | GI2: billion | GJ2: billion | GK2: billion | GL2: billion | GM2: billion | GN2: billion | GO2: billion | GP2: billion | GQ2: billion | GR2: billion | GS2: billion | GT2: billion | GU2: billion | GV2: billion | GW2: billion | GX2: billion | GY2: billion | GZ2: billion | HA2: billion | HB2: billion | HC2: billion | HD2: billion | HE2: billion | HF2: billion | HG2: billion | HH2: billion | HI2: billion | HJ2: billion | HK2: billion | HL2: billion | HM2: billion | HN2: billion | HO2: billion | HP2: billion | HQ2: billion | HR2: billion | HS2: billion | HT2: billion | HU2: billion | HV2: billion | HW2: billion | HX2: billion | HY2: billion | HZ2: billion | IA2: billion | IB2: billion | IC2: billion | ID2: billion | IE2: billion | IF2: billion | IG2: billion | IH2: billion | II2: billion | IJ2: billion | IK2: billion | IL2: billion | IM2: billion | IN2: billion | IO2: billion | IP2: billion | IQ2: billion | IR2: billion | IS2: billion | IT2: billion | IU2: billion | IV2: billion | IW2: billion | IX2: billion | IY2: billion | IZ2: billion | JA2: billion | JB2: billion | JC2: billion | JD2: billion | JE2: billion | JF2: billion | JG2: billion | JH2: billion | JI2: billion | JJ2: billion | JK2: billion | JL2: billion | JM2: billion | JN2: billion | JO2: billion | JP2: billion | JQ2: billion | JR2: billion | JS2: billion | JT2: billion | JU2: billion | JV2: billion | JW2: billion | JX2: billion | JY2: billion | JZ2: billion | KA2: billion | KB2: billion | KC2: billion | KD2: billion | KE2: billion | KF2: billion | KG2: billion | KH2: billion | KI2: billion | KJ2: billion | KK2: billion | KL2: billion | KM2: billion | KN2: billion | KO2: billion | KP2: billion | KQ2: billion | KR2: billion | KS2: billion | KT2: billion | KU2: billion | KV2: billion | KW2: billion | KX2: billion | KY2: billion | KZ2: billion | LA2: billion | LB2: billion | LC2: billion | LD2: billion | LE2: billion | LF2: billion | LG2: billion | LH2: billion | LI2: billion | LJ2: billion | LK2: billion | LL2: billion | LM2: billion | LN2: billion | LO2: billion | LP2: billion | LQ2: billion | LR2: billion | LS2: billion | LT2: billion | LU2: billion | LV2: billion | LW2: billion | LX2: billion | LY2: billion | LZ2: billion | MA2: billion | MB2: billion | MC2: billion | MD2: billion | ME2: billion | MF2: billion | MG2: billion | MH2: billion | MI2: billion | MJ2: billion | MK2: billion | ML2: billion | MM2: billion | MN2: billion | MO2: billion | MP2: billion | MQ2: billion | MR2: billion | MS2: billion | MT2: billion | MU2: billion | MV2: billion | MW2: billion | MX2: billion | MY2: billion | MZ2: billion | NA2: billion | NB2: billion | NC2: billion | ND2: billion | NE2: billion | NF2: billion | NG2: billion | NH2: billion | NI2: billion | NJ2: billion | NK2: billion | NL2: billion | NM2: billion | NN2: billion | NO2: billion | NP2: billion | NQ2: billion | NR2: billion | NS2: billion | NT2: billion | NU2: billion | NV2: billion | NW2: billion | NX2: billion | NY2: billion | NZ2: billion | OA2: billion | OB2: billion | OC2: billion | OD2: billion | OE2: billion | OF2: billion | OG2: billion | OH2: billion | OI2: billion | OJ2: billion | OK2: billion | OL2: billion | OM2: billion | ON2: billion | OO2: billion | OP2: billion | OQ2: billion | OR2: billion | OS2: billion | OT2: billion | OU2: billion | OV2: billion | OW2: billion | OX2: billion | OY2: billion | OZ2: ratio | PA2: billion | PB2: billion | PC2: % | PD2: % | PE2: % | PF2: % | PG2: billion | PH2: billion | PI2: billion | PJ2: billion | PK2: billion | PL2: billion | PO2: % | PR2: base | PS2: ratio | PT2: million | PU2: million | PV2: million | PW2: million | PX2: million | PY2: million | PZ2: million | QA2: million | QB2: million | QC2: million | QD2: million | QE2: million | QF2: million | QG2: million | QH2: million | QI2: million | QJ2: million | QK2: million | QL2: million | QM2: million | QN2: pct | QO2: pct | QP2: million | QQ2: pct | QR2: million | QS2: million | QT2: pct | QU2: pct | QV2: pct | QW2: pct | QX2: pct | QY2: pct | QZ2: pct | RD2: Index | RE2: Index | RF2: index | RG2: index | RH2: index | RI2: index | RL2: =W2 -> billion | RM2: =CP2 -> billion | RN2: % of GDP | RO2: % of GDP
A3: currency | B3: EUR | C3: EUR | D3: EUR | E3: EUR | F3: EUR | G3: EUR | H3: EUR | I3: EUR | J3: EUR | K3: EUR | L3: EUR | M3: EUR | N3: EUR | O3: EUR | P3: EUR | Q3: EUR | R3: EUR | S3: EUR | T3: EUR | U3: EUR | V3: EUR | W3: EUR | X3: EUR | Y3: EUR | Z3: EUR | AA3: EUR | AB3: EUR | AC3: EUR | AD3: EUR | AE3: EUR | AF3: 2015 | AG3: 2015 | AH3: 2015 | AI3: 2015 | AJ3: 2015 | AK3: 2015 | AL3: 2015 | AM3: 2015 | AN3: 2015 | AO3: 2015 | AP3: 2015 | AQ3: 2015 | AR3: 2015 | AS3: 2015 | AT3: 2015 | AU3: 2015 | AV3: EUR | AW3: EUR | AX3: EUR | AY3: EUR | AZ3: EUR | BA3: EUR | BB3: EUR | BC3: EUR | BD3: EUR | BE3: EUR | BF3: EUR | BG3: EUR | BH3: EUR | BI3: EUR | BJ3: EUR | BK3: EUR | BL3: EUR | BM3: EUR | BN3: EUR | BO3: EUR | BP3: EUR | BQ3: EUR | BR3: EUR | BS3: EUR | BT3: EUR | BU3: EUR | BV3: EUR | BW3: EUR | BX3: EUR | BY3: EUR | BZ3: EUR | CA3: EUR | CB3: EUR | CC3: EUR | CD3: EUR | CE3: EUR | CF3: EUR | CG3: EUR | CH3: EUR | CI3: EUR | CJ3: EUR | CK3: EUR | CL3: EUR | CM3: EUR | CN3: EUR | CO3: EUR | CP3: EUR | CQ3: EUR | CR3: EUR | CS3: EUR | CT3: EUR | CU3: EUR | CV3: EUR | CW3: EUR | CX3: EUR | CY3: EUR | CZ3: EUR | DA3: EUR | DB3: EUR | DC3: EUR | DD3: EUR | DE3: EUR | DF3: EUR | DG3: EUR | DH3: EUR | DI3: EUR | DJ3: EUR | DK3: EUR | DL3: EUR | DM3: EUR | DN3: EUR | DO3: EUR | DP3: EUR | DQ3: EUR | DR3: EUR | DS3: EUR | DT3: EUR | DU3: EUR | DV3: EUR | DW3: EUR | DX3: EUR | DY3: EUR | DZ3: EUR | EA3: EUR | EB3: EUR | EC3: EUR | ED3: EUR | EE3: EUR | EF3: EUR | EG3: EUR | EH3: EUR | EI3: EUR | EJ3: EUR | EK3: EUR | EL3: EUR | EM3: EUR | EN3: EUR | EO3: EUR | EP3: EUR | EQ3: EUR | ER3: EUR | ES3: EUR | ET3: EUR | EU3: EUR | EV3: EUR | EW3: EUR | EX3: EUR | EY3: EUR | EZ3: EUR | FA3: EUR | FB3: EUR | FC3: EUR | FD3: EUR | FE3: EUR | FF3: EUR | FG3: EUR | FH3: EUR | FI3: EUR | FJ3: EUR | FK3: EUR | FL3: EUR | FM3: EUR | FN3: EUR | FO3: EUR | FP3: EUR | FQ3: EUR | FR3: EUR | FS3: EUR | FT3: EUR | FU3: EUR | FV3: EUR | FW3: EUR | FX3: EUR | FY3: EUR | FZ3: EUR | GA3: EUR | GB3: EUR | GC3: EUR | GD3: EUR | GE3: EUR | GF3: EUR | GG3: EUR | GH3: EUR | GI3: EUR | GJ3: EUR | GK3: EUR | GL3: EUR | GM3: EUR | GN3: EUR | GO3: EUR | GP3: EUR | GQ3: EUR | GR3: EUR | GS3: EUR | GT3: EUR | GU3: EUR | GV3: EUR | GW3: EUR | GX3: EUR | GY3: EUR | GZ3: EUR | HA3: EUR | HB3: EUR | HC3: EUR | HD3: EUR | HE3: EUR | HF3: EUR | HG3: EUR | HH3: EUR | HI3: EUR | HJ3: EUR | HK3: EUR | HL3: EUR | HM3: EUR | HN3: EUR | HO3: EUR | HP3: EUR | HQ3: EUR | HR3: EUR | HS3: EUR | HT3: EUR | HU3: EUR | HV3: EUR | HW3: EUR | HX3: EUR | HY3: EUR | HZ3: EUR | IA3: EUR | IB3: EUR | IC3: EUR | ID3: EUR | IE3: EUR | IF3: EUR | IG3: EUR | IH3: EUR | II3: EUR | IJ3: EUR | IK3: EUR | IL3: EUR | IM3: EUR | IN3: EUR | IO3: EUR | IP3: EUR | IQ3: EUR | IR3: EUR | IS3: EUR | IT3: EUR | IU3: EUR | IV3: EUR | IW3: EUR | IX3: EUR | IY3: EUR | IZ3: EUR | JA3: EUR | JB3: EUR | JC3: EUR | JD3: EUR | JE3: EUR | JF3: EUR | JG3: EUR | JH3: EUR | JI3: EUR | JJ3: EUR | JK3: EUR | JL3: EUR | JM3: EUR | JN3: EUR | JO3: EUR | JP3: EUR | JQ3: EUR | JR3: EUR | JS3: EUR | JT3: EUR | JU3: EUR | JV3: EUR | JW3: EUR | JX3: EUR | JY3: EUR | JZ3: EUR | KA3: EUR | KB3: EUR | KC3: EUR | KD3: EUR | KE3: EUR | KF3: EUR | KG3: EUR | KH3: EUR | KI3: EUR | KJ3: EUR | KK3: EUR | KL3: EUR | KM3: EUR | KN3: EUR | KO3: EUR | KP3: EUR | KQ3: EUR | KR3: EUR | KS3: EUR | KT3: EUR | KU3: EUR | KV3: EUR | KW3: EUR | KX3: EUR | KY3: EUR | KZ3: EUR | LA3: EUR | LB3: EUR | LC3: EUR | LD3: EUR | LE3: EUR | LF3: EUR | LG3: EUR | LH3: EUR | LI3: EUR | LJ3: EUR | LK3: EUR | LL3: EUR | LM3: EUR | LN3: EUR | LO3: EUR | LP3: EUR | LQ3: EUR | LR3: EUR | LS3: EUR | LT3: EUR | LU3: EUR | LV3: EUR | LW3: EUR | LX3: EUR | LY3: EUR | LZ3: EUR | MA3: EUR | MB3: EUR | MC3: EUR | MD3: EUR | ME3: EUR | MF3: EUR | MG3: EUR | MH3: EUR | MI3: EUR | MJ3: EUR | MK3: EUR | ML3: EUR | MM3: EUR | MN3: EUR | MO3: EUR | MP3: EUR | MQ3: EUR | MR3: EUR | MS3: EUR | MT3: EUR | MU3: EUR | MV3: EUR | MW3: EUR | MX3: EUR | MY3: EUR | MZ3: EUR | NA3: EUR | NB3: EUR | NC3: EUR | ND3: EUR | NE3: EUR | NF3: EUR | NG3: EUR | NH3: EUR | NI3: EUR | NJ3: EUR | NK3: EUR | NL3: EUR | NM3: EUR | NN3: EUR | NO3: EUR | NP3: EUR | NQ3: EUR | NR3: EUR | NS3: EUR | NT3: EUR | NU3: EUR | NV3: EUR | NW3: EUR | NX3: EUR | NY3: EUR | NZ3: EUR | OA3: EUR | OB3: EUR | OC3: EUR | OD3: EUR | OE3: EUR | OF3: EUR | OG3: EUR | OH3: EUR | OI3: EUR | OJ3: EUR | OK3: EUR | OL3: EUR | OM3: EUR | ON3: EUR | OO3: EUR | OP3: EUR | OQ3: EUR | OR3: EUR | OS3: EUR | OT3: EUR | OU3: EUR | OV3: EUR | OW3: EUR | OX3: EUR | OY3: EUR | OZ3: - | PA3: EUR | PB3: EUR | PG3: EUR | PH3: EUR | PI3: EUR | PJ3: EUR | PK3: EUR | PL3: EUR | PM3: EUR | PO3: - | PR3: 2015 | PS3: ratio | PT3: people | PU3: people | PV3: people | PW3: people | PX3: people | PY3: people | PZ3: people | QA3: people | QB3: people | QC3: people | QD3: people | QE3: people | QF3: people | QG3: people | QH3: people | QI3: people | QJ3: people | QK3: people | QL3: people | QM3: people | QP3: people | QR3: people | QS3: people | RJ3: USD | RL3: =W3 -> EUR | RM3: =CP3 -> EUR
A4: label | B4: Gross domestic product | C4: Imports | D4: Final consumption expenditure | E4: Final consumption expenditure | F4: Final consumption expenditure | G4: Final consumption expenditure | H4: GFCF | I4: GFCF | J4: GFCF | K4: GFCF | L4: GFCF | M4: GFCF | N4: Acquisitions less disposals of valuables | O4: Changes in inventories | P4: Exports | Q4: Gross domestic product | R4: Imports | S4: Final consumption expenditure | T4: Final consumption expenditure | U4: Final consumption expenditure | V4: Final consumption expenditure | W4: GFCF | X4: GFCF | Y4: GFCF | Z4: GFCF | AA4: GFCF | AB4: GFCF | AC4: Acquisitions less disposals of valuables | AD4: Changes in inventories | AE4: Exports | AF4: Gross domestic product | AG4: Value added | AH4: Imports | AI4: Final consumption expenditure | AJ4: Final consumption expenditure | AK4: Final consumption expenditure | AL4: Final consumption expenditure | AM4: GFCF | AN4: GFCF | AO4: GFCF | AP4: GFCF | AQ4: GFCF | AR4: GFCF | AS4: Acquisitions less disposals of valuables | AT4: Changes in inventories | AU4: Exports | AV4: Production | AW4: Intermediate uses | AX4: Value added | AY4: Gross wages and salaries | AZ4: Employers actual social contributions | BA4: Employers imputed social contributions | BB4: D121+D122 | BC4: Taxes on payroll and workforce | BD4: Miscellaneous taxes on production | BE4: D291+D292 | BF4: Subsidies (-) | BG4: Gross operating surplus and mixed income | BH4: Interest | BI4: Distributed income of corporations | BJ4: Reinvested earnings on direct foreign investment | BK4: Property income attributed to insurance policy holders | BL4: Rents | BM4: Interest | BN4: Distributed income of corporations | BO4: Reinvested earnings on direct foreign investment | BP4: Rents | BQ4: Imputed social contributions | BR4: Households' actual social contributions | BS4: D612Z+D613Z | BT4: Non-life insurance claims | BU4: Miscellaneous current transfers | BV4: D72+D75 | BW4: D72+D75 | BX4: Taxes on income | BY4: D51 | BZ4: Other social insurance benefits | CA4: D622 | CB4: Net non-life insurance premiums | CC4: Miscellaneous current transfers | CD4: D71+D75 | CE4: D71+D75 | CF4: Gross disposable income | CG4: Gross saving | CH4: Investment grants | CI4: Other capital transfers | CJ4: D92+D99 | CK4: D92+D99 | CL4: Capital taxes | CM4: Other capital transfers | CN4: D91+D99 | CO4: D91+D99 | CP4: Gross fixed capital formation | CQ4: Changes in inventories | CR4: Acquisitions less disposals of non-financial non-produced assets | CS4: Non financial net lending/net borrowing | CT4: Production | CU4: Intermediate uses | CV4: Value added (gross) | CW4: Gross wages and salaries | CX4: Employers actual social contributions | CY4: Employers imputed social contributions | CZ4: D121+D122 | DA4: Total wage bill and payroll taxes (paid) | DB4: Other taxes on production | DC4: D291+D292 | DD4: Other subsidies on production | DE4: Gross operating surplus | DF4: Interest | DG4: Interest | DH4: Distributed income of corporations | DI4: Distributed income of corporations | DJ4: Reinvested earnings on direct foreign investment | DK4: Property income attributed to insurance policy holders | DL4: Property income attributed to insurance policy holders | DM4: Interest | DN4: Interest | DO4: Distributed income of corporations | DP4: Distributed income of corporations | DQ4: Reinvested earnings on direct foreign investment | DR4: Property income attributed to insurance policy holders | DS4: Property income attributed to insurance policy holders | DT4: Employers actual social contributions | DU4: Imputed social contributions | DV4: Households' actual social contributions | DW4: D611Z+D612Z+D613Z | DX4: Net non-life insurance premiums | DY4: Non-life insurance claims | DZ4: Miscellaneous current transfers | EA4: D71+D72+D75 | EB4: Taxes on income | EC4: Other current taxes | ED4: D51+D59 | EE4: D51+D59 minus D5 of BdF | EF4: Other social insurance benefits | EG4: D622 | EH4: Net non-life insurance premiums | EI4: Non-life insurance claims | EJ4: Miscellaneous current transfers | EK4: D71+D72+D75 | EL4: Gross disposable income | EM4: Gross savings | EN4: Investment grants | EO4: Other capital transfers | EP4: D92+D99 | EQ4: D92+D99 | ER4: Capital taxes | ES4: Other capital transfers | ET4: D91+D99 | EU4: D91+D99 | EV4: Gross fixed capital formation | EW4: Acquisitions less disposals of non-financial non-produced assets | EX4: Non financial net lending/net borrowing | EY4: Production | EZ4: Intermediate uses | FA4: Value added (gross) | FB4: Gross wages and salaries | FC4: Employers actual social contributions | FD4: Employers imputed social contributions | FE4: D121+D122 | FF4: Total wage bill and payroll taxes (paid) | FG4: Other taxes on production | FH4: D291+292 | FI4: Other subsidies on production | FJ4: Gross operating surplus | FK4: Value added type taxes (VAT) | FL4: Taxes and duties on imports excluding VAT | FM4: Taxes on products, except VAT and import taxes | FN4: D211+D212+D214 | FO4: Total wage bill and payroll taxes (paid) | FP4: Other taxes on production | FQ4: D291+D292 | FR4: Subsidies on products | FS4: Other subsidies on production | FT4: Interest | FU4: Distributed income of corporations | FV4: Property income attributed to insurance policy holders | FW4: Rents | FX4: Rents | FY4: Interest | FZ4: Rents | GA4: Rents | GB4: Taxes on income | GC4: Other current taxes | GD4: D51+D59 | GE4: D51+D59 | GF4: Employers actual social contributions | GG4: Imputed social contributions | GH4: Households' actual social contributions | GI4: D611Z+D612Z+D613Z | GJ4: Non-life insurance claims | GK4: Current transfers within general government | GL4: Current international co-operation | GM4: Miscellaneous current transfers | GN4: D72+D73+D74+D75 | GO4: D72+D73+D74+D75 | GP4: Taxes on income | GQ4: D51 | GR4: D51 | GS4: Social benefits other than social transfers in kind | GT4: Other social insurance benefits | GU4: Social assistance benefits in cash | GV4: D621+D622+D623 | GW4: Net non-life insurance premiums | GX4: Current transfers within general government | GY4: Current international co-operation | GZ4: Miscellaneous current transfers | HA4: VAT- and GNI-based EU own resources | HB4: D71+D73+D74+D75+D76 | HC4: D71+D73+D74+D75+D76 | HD4: Gross disposable income | HE4: Final consumption expenditure, individual | HF4: Final consumption expenditure, collective | HG4: P31+P32 | HH4: Gross saving | HI4: Capital taxes | HJ4: Investment grants | HK4: Other capital transfers | HL4: D91+D92+D99 | HM4: D91+D92+D99 | HN4: Investment grants | HO4: Other capital transfers | HP4: D92+D99 | HQ4: D92+D99 | HR4: Gross fixed capital formation | HS4: Changes in inventories | HT4: Acquisitions less disposals of non-financial non-produced assets | HU4: Non financial net lending/net borrowing | HV4: Social transfers in kind - non-market production | HW4: Social transfers in kind - purchased market production | HX4: Gross adjusted disposable income | HY4: Production | HZ4: Production | IA4: S14+S15 | IB4: Intermediate uses | IC4: Intermediate uses | ID4: S14+S15 | IE4: Vale added (gross) | IF4: Vale added (gross) | IG4: S14+S15 | IH4: Gross wages and salaries | II4: Gross wages and salaries | IJ4: S14+S15 | IK4: Employers actual social contributions | IL4: Employers actual social contributions | IM4: S14+S15 | IN4: Total wage bill and payroll taxes (paid) | IO4: Other taxes on production | IP4: D291+D292 | IQ4: Total wage bill and payroll taxes (paid) | IR4: Other taxes on production | IS4: D291+D292 | IT4: S14+S15 | IU4: Other subsidies on production | IV4: Other subsidies on production | IW4: S14+S15 | IX4: Gross operating surplus and mixed income | IY4: Gross operating surplus and mixed income | IZ4: S14+S15 | JA4: Gross wages and salaries | JB4: S14+S15 | JC4: Employers actual social contributions | JD4: Employers imputed social contributions | JE4: S14+S15 | JF4: Interest | JG4: Interest | JH4: S14+S15 | JI4: Distributed income of corporations | JJ4: S14+S15 | JK4: Property income attributed to insurance policy holders | JL4: Property income attributed to insurance policy holders | JM4: S14+S15 | JN4: Rents | JO4: S14+S15 | JP4: Interest | JQ4: Interest | JR4: S14+S15 | JS4: Rents | JT4: S14+S15 | JU4: Social benefits other than social transfers in kind | JV4: Other social insurance benefits | JW4: Social assistance benefits in cash | JX4: S14+S15 (D621+D622+D623) | JY4: S14+S15 (D621+D622+D623) | JZ4: Non-life insurance claims | KA4: Miscellaneous current transfers | KB4: D72+D75 | KC4: Non-life insurance claims | KD4: Miscellaneous current transfers | KE4: D72+D75 | KF4: S14+S15 (D72+D75) | KG4: S14+S15 (D72+D75) | KH4: Taxes on income | KI4: Other current taxes | KJ4: S14+S15 | KK4: Employers actual social contributions | KL4: Imputed social contributions | KM4: Households' actual social contributions | KN4: S14+S15 | KO4: Social assistance benefits in cash | KP4: S14+S15 | KQ4: S14+S15 | KR4: Net non-life insurance premiums | KS4: Miscellaneous current transfers | KT4: D71+D75 | KU4: Net non-life insurance premiums | KV4: Miscellaneous current transfers | KW4: D71+D75 | KX4: S14+S15 | KY4: S14+S15 | KZ4: Gross disposable income | LA4: Gross disposable income | LB4: S14+S15 | LC4: Final consumption expenditure, individual | LD4: Final consumption expenditure | LE4: S14+S15 | LF4: Gross saving | LG4: Gross saving | LH4: S14+S15 | LI4: Investment grants | LJ4: Other capital transfers | LK4: D92+D99 | LL4: Investment grants | LM4: Other capital transfers | LN4: D92+D99 | LO4: S14+S15 | LP4: S14+S15 | LQ4: Capital taxes | LR4: Other capital transfers | LS4: D91+D99 | LT4: Other capital transfers | LU4: S14+S15 (D91+D99) | LV4: S14+S15 (D91+D99) | LW4: Gross fixed capital formation | LX4: Gross fixed capital formation | LY4: S14+S15 | LZ4: Changes in inventories | MA4: S14+S15 | MB4: Acquisition less disposals of valuables | MC4: S14+S15 | MD4: Acquisitions less disposals of non-financial non-produced assets | ME4: S14+S15 | MF4: Non financial net lending/net borrowing | MG4: Non financial net lending/net borrowing | MH4: S14+S15 | MI4: Social transfers in kind - general government and NPISHs non-market production | MJ4: Social transfers in kind - market production purchased by general government and NPISHs | MK4: Social transfers in kind - general government and NPISHs non-market production | ML4: Gross adjusted disposable income | MM4: Gross adjusted disposable income | MN4: S14+S15 | MO4: Exports | MP4: Imports | MQ4: External balance of goods and services of the Nation | MR4: Gross wages and salaries | MS4: Employers actual social contributions | MT4: D121 | MU4: Interest | MV4: Distributed income of corporations | MW4: Reinvested earnings on direct foreign investment | MX4: Property income attributed to insurance policy holders | MY4: Property income attributed to insurance policy holders | MZ4: Taxes on income | NA4: D51 | NB4: Employers actual social contributions | NC4: Households' actual social contributions | ND4: D611Z+D613Z | NE4: Social benefits other than social transfers in kind | NF4: D621 | NG4: Net non-life insurance premiums | NH4: Non-life insurance claims | NI4: Current international co-operation | NJ4: Miscellaneous current transfers | NK4: D71+D72+D74+D75 | NL4: D71+D72+D74+D75 | NM4: Acquisitions less disposals of non-financial non-produced assets | NN4: Gross wages and salaries | NO4: Employers actual social contributions | NP4: D121 | NQ4: Value added type taxes (VAT) | NR4: Taxes and duties on imports excluding VAT | NS4: Taxes on products, except VAT and import taxes | NT4: D211+D212+D214 | NU4: Other taxes on production | NV4: D292 | NW4: Subsidies on products | NX4: Other subsidies on production | NY4: Interest | NZ4: Distributed income of corporations | OA4: Reinvested earnings on direct foreign investment | OB4: Property income attributed to insurance policy holders | OC4: Property income attributed to insurance policy holders | OD4: Employers actual social contributions | OE4: Households' actual social contributions | OF4: D611Z+D612Z | OG4: Social benefits other than social transfers in kind | OH4: Other social insurance benefits | OI4: Social assistance benefits in cash | OJ4: D621+D622+D623 | OK4: Net non-life insurance premiums | OL4: Non-life insurance claims | OM4: Current international co-operation | ON4: Miscellaneous current transfers | OO4: VAT- and GNI-based EU own resources | OP4: D71+D72+D74+D75+D76 | OQ4: D71+D72+D74+D75+D76 | OR4: Investment grants recepted to the rest of the world | OS4: Other capital transfers recepted to the rest of the world | OT4: D92+D99 | OU4: Investment grants versed from the rest of the world | OV4: Other capital transfers versed from the rest of the world | OW4: D92+D99 | OX4: Non financial net lending/net borrowing | OY4: Gross Domestic product | OZ4: D42_r_s12 / ( fa_5_s_s12(-1) + fa_5_s_s121(-1) ) | PA4: Dividend. gamma_div_r_s12 * fa_5_s_s121(-1) | PB4: Dividend. gamma_div_r_s12 * fl_5_s_s121(-1) | PC4: Govt 10-year bond yield for France | PD4: ECB refinancing rate | PE4: Deposit interest rate in France | PF4: Borrowing rate in France | PG4: Taxes on income and wealth | PH4: Interest | PI4: Interest | PJ4: Value added (B1_s11+B1_s12+B1_s13+B1_s14) | PK4: Value added (B2_s11+B2_s12+B2_s13+B2_s14) | PL4: GDP. D21_r_s13+D21_r_s2-D319_p_s13-D319_p_s2+B1_s1 | PM4: Gold price per troy ounce | PO4: Old-age dependency ratio | PP4: Total active population (15-64yrs old) | PQ4: Active population (15-64yrs old) | PR4: Historical S&P 500 prices rebased to 2015 | PT4: Employment | PU4: Employment | PV4: Employment | PW4: Employment | PX4: Employment | PY4: Employment (ind. ent+ non-ind entr + NPISH) | PZ4: Employment | QA4: Employment | QB4: Self-employment | QC4: Self-employment | QD4: Employment | QE4: Employment | QF4: Employment | QG4: Employment | QH4: Employment | QI4: Employment | QJ4: Employment (ind. ent+ non-ind entr + NPISH) | QK4: Employment | QL4: Self-employment | QM4: Self-employment | QN4: Output gap | QO4: Unemployment rate | QQ4: Activity rate | QR4: Active population | QS4: Total population between the ages 15 to 64 | QT4: Long-term interest rate differential | QU4: Short-term interest rate differential | QV4: Emprunt Phare 10 ans | QW4: Long-term interest rate | QX4: RoW int rate | QY4: Deposit rate | QZ4: Key interest rate - ECB Main refinancing operations | RA4: Euro – Average of observations through period (BIS/xru_current/A.FR.EUR.A) | RB4: Euro – End of period (BIS/xru_current/A.FR.EUR.E) | RC4: Annual – GDP (constant 2015 US$) – World (WB/WDI/A-NY.GDP.MKTP.KD-WLD) | RD4: Shadow price of goods and services imports – Annual (OECD/EO/FRA.PMSH.A) | RE4: Competitors' price of goods and services exports – Annual (OECD/EO/FRA.PXC.A) | RF4: Monthly – Nominal – Narrow (27 economies) | RG4: Monthly – Real – Narrow (27 economies) | RJ4: World | RL4: =W4 -> GFCF | RM4: =CP4 -> Gross fixed capital formation
A5: paid/received asset/liab | AY5: paid | AZ5: paid | BA5: paid | BB5: paid | BC5: paid | BD5: paid | BE5: received | BF5: received | BH5: received | BI5: received | BJ5: received | BK5: received | BL5: received | BM5: paid | BN5: paid | BO5: paid | BP5: paid | BQ5: received | BR5: received | BS5: received | BT5: received | BU5: received | BV5: received | BW5: received | BX5: paid | BY5: paid | BZ5: paid | CA5: paid | CB5: paid | CC5: paid | CD5: paid | CE5: paid | CH5: received | CI5: received | CJ5: received | CK5: received | CL5: paid | CM5: paid | CN5: paid | CO5: paid | CP5: paid | CQ5: paid | CW5: paid | CX5: paid | CY5: paid | CZ5: paid | DA5: paid | DB5: paid | DC5: paid | DD5: received | DF5: received | DG5: received | DH5: received | DI5: received | DJ5: received | DK5: received | DL5: received | DM5: paid | DN5: paid | DO5: paid | DP5: paid | DQ5: paid | DR5: paid | DS5: paid | DT5: received | DU5: received | DV5: received | DW5: received | DX5: received | DY5: received | DZ5: received | EA5: received | EB5: paid | EC5: paid | ED5: paid | EE5: paid | EF5: paid | EG5: paid | EH5: paid | EI5: paid | EJ5: paid | EK5: paid | EN5: received | EO5: received | EP5: received | EQ5: received | ER5: paid | ES5: paid | ET5: paid | EU5: paid | EV5: paid | EW5: paid | FB5: paid | FC5: paid | FD5: paid | FE5: paid | FF5: paid | FG5: paid | FH5: paid | FI5: received | FK5: received | FL5: received | FM5: received | FN5: received | FO5: received | FP5: received | FQ5: received | FR5: paid | FS5: paid | FT5: received | FU5: received | FV5: received | FW5: received | FX5: received | FY5: paid | FZ5: paid | GA5: paid | GB5: received | GC5: received | GD5: received | GE5: received | GF5: received | GG5: received | GH5: received | GI5: received | GJ5: received | GK5: received | GL5: received | GM5: received | GN5: received | GO5: received | GP5: paid | GQ5: paid | GR5: paid | GS5: paid | GT5: paid | GU5: paid | GV5: paid | GW5: paid | GX5: paid | GY5: paid | GZ5: paid | HA5: paid | HB5: paid | HC5: paid | HI5: received | HJ5: received | HK5: received | HL5: received | HM5: received | HN5: paid | HO5: paid | HP5: paid | HQ5: paid | HR5: paid | HS5: paid | HT5: paid | HV5: paid | HW5: paid | IH5: paid | II5: paid | IJ5: paid | IK5: paid | IL5: paid | IM5: paid | IN5: paid | IO5: paid | IP5: paid | IQ5: paid | IR5: paid | IS5: paid | IT5: paid | IU5: received | IV5: received | IW5: received | JA5: received | JB5: received | JC5: received | JD5: received | JE5: received | JF5: received | JG5: received | JH5: received | JI5: received | JJ5: received | JK5: received | JL5: received | JM5: received | JN5: received | JO5: received | JP5: paid | JQ5: paid | JR5: paid | JS5: paid | JT5: paid | JU5: received | JV5: received | JW5: received | JX5: received | JY5: received | JZ5: received | KA5: received | KB5: received | KC5: received | KD5: received | KE5: received | KF5: received | KG5: received | KH5: paid | KI5: paid | KJ5: paid | KK5: paid | KL5: paid | KM5: paid | KN5: paid | KO5: paid | KP5: paid | KQ5: paid | KR5: paid | KS5: paid | KT5: paid | KU5: paid | KV5: paid | KW5: paid | KX5: paid | KY5: paid | LI5: received | LJ5: received | LK5: received | LL5: received | LM5: received | LN5: received | LO5: received | LP5: received | LQ5: paid | LR5: paid | LS5: paid | LT5: paid | LU5: paid | LV5: paid | LW5: paid | LX5: paid | LY5: paid | LZ5: paid | MA5: paid | MB5: paid | MC5: paid | MD5: paid | ME5: paid | MI5: received | MJ5: received | MK5: paid | MR5: paid | MS5: paid | MT5: paid | MU5: paid | MV5: paid | MW5: paid | MX5: paid | MY5: paid | MZ5: paid | NA5: paid | NB5: paid | NC5: paid | ND5: paid | NE5: paid | NF5: paid | NG5: paid | NH5: paid | NI5: paid | NJ5: paid | NK5: paid | NL5: paid | NM5: paid | NN5: received | NO5: received | NP5: received | NQ5: received | NR5: received | NS5: received | NT5: received | NU5: received | NV5: received | NW5: received | NX5: received | NY5: received | NZ5: received | OA5: received | OB5: received | OC5: received | OD5: received | OE5: received | OF5: received | OG5: received | OH5: received | OI5: received | OJ5: received | OK5: received | OL5: received | OM5: received | ON5: received | OO5: received | OP5: received | OQ5: received | OR5: received | OS5: received | OT5: received | OU5: paid | OV5: paid | OW5: paid | PA5: received | PB5: paid | PG5: paid | PH5: received | PI5: paid | RL5: =W5 -> 0 | RM5: =CP5 -> paid
A6: type | B6: flow | C6: flow | D6: flow | E6: flow | F6: flow | G6: flow | H6: flow | I6: flow | J6: flow | K6: flow | L6: flow | M6: flow | N6: flow | O6: flow | P6: flow | Q6: flow | R6: flow | S6: flow | T6: flow | U6: flow | V6: flow | W6: flow | X6: flow | Y6: flow | Z6: flow | AA6: flow | AB6: flow | AC6: flow | AD6: flow | AE6: flow | AF6: price | AG6: price | AH6: price | AI6: price | AJ6: price | AK6: price | AL6: price | AM6: price | AN6: price | AO6: price | AP6: price | AQ6: price | AR6: price | AS6: price | AT6: price | AU6: price | AV6: flow | AW6: flow | AX6: flow | AY6: flow | AZ6: flow | BA6: flow | BB6: flow | BC6: flow | BD6: flow | BE6: flow | BF6: flow | BG6: flow | BH6: flow | BI6: flow | BJ6: flow | BK6: flow | BL6: flow | BM6: flow | BN6: flow | BO6: flow | BP6: flow | BQ6: flow | BR6: flow | BS6: flow | BT6: flow | BU6: flow | BV6: flow | BW6: flow | BX6: flow | BY6: flow | BZ6: flow | CA6: flow | CB6: flow | CC6: flow | CD6: flow | CE6: flow | CF6: flow | CG6: flow | CH6: flow | CI6: flow | CJ6: flow | CK6: flow | CL6: flow | CM6: flow | CN6: flow | CO6: flow | CP6: flow | CQ6: flow | CR6: flow | CS6: flow | CT6: flow | CU6: flow | CV6: flow | CW6: flow | CX6: flow | CY6: flow | CZ6: flow | DA6: flow | DB6: flow | DC6: flow | DD6: flow | DE6: flow | DF6: flow | DG6: flow | DH6: flow | DI6: flow | DJ6: flow | DK6: flow | DL6: flow | DM6: flow | DN6: flow | DO6: flow | DP6: flow | DQ6: flow | DR6: flow | DS6: flow | DT6: flow | DU6: flow | DV6: flow | DW6: flow | DX6: flow | DY6: flow | DZ6: flow | EA6: flow | EB6: flow | EC6: flow | ED6: flow | EE6: flow | EF6: flow | EG6: flow | EH6: flow | EI6: flow | EJ6: flow | EK6: flow | EL6: flow | EM6: flow | EN6: flow | EO6: flow | EP6: flow | EQ6: flow | ER6: flow | ES6: flow | ET6: flow | EU6: flow | EV6: flow | EW6: flow | EX6: flow | EY6: flow | EZ6: flow | FA6: flow | FB6: flow | FC6: flow | FD6: flow | FE6: flow | FF6: flow | FG6: flow | FH6: flow | FI6: flow | FJ6: flow | FK6: flow | FL6: flow | FM6: flow | FN6: flow | FO6: flow | FP6: flow | FQ6: flow | FR6: flow | FS6: flow | FT6: flow | FU6: flow | FV6: flow | FW6: flow | FX6: flow | FY6: flow | FZ6: flow | GA6: flow | GB6: flow | GC6: flow | GD6: flow | GE6: flow | GF6: flow | GG6: flow | GH6: flow | GI6: flow | GJ6: flow | GK6: flow | GL6: flow | GM6: flow | GN6: flow | GO6: flow | GP6: flow | GQ6: flow | GR6: flow | GS6: flow | GT6: flow | GU6: flow | GV6: flow | GW6: flow | GX6: flow | GY6: flow | GZ6: flow | HA6: flow | HB6: flow | HC6: flow | HD6: flow | HE6: flow | HF6: flow | HG6: flow | HH6: flow | HI6: flow | HJ6: flow | HK6: flow | HL6: flow | HM6: flow | HN6: flow | HO6: flow | HP6: flow | HQ6: flow | HR6: flow | HS6: flow | HT6: flow | HU6: flow | HV6: flow | HW6: flow | HX6: flow | HY6: flow | HZ6: flow | IA6: flow | IB6: flow | IC6: flow | ID6: flow | IE6: flow | IF6: flow | IG6: flow | IH6: flow | II6: flow | IJ6: flow | IK6: flow | IL6: flow | IM6: flow | IN6: flow | IO6: flow | IP6: flow | IQ6: flow | IR6: flow | IS6: flow | IT6: flow | IU6: flow | IV6: flow | IW6: flow | IX6: flow | IY6: flow | IZ6: flow | JA6: flow | JB6: flow | JC6: flow | JD6: flow | JE6: flow | JF6: flow | JG6: flow | JH6: flow | JI6: flow | JJ6: flow | JK6: flow | JL6: flow | JM6: flow | JN6: flow | JO6: flow | JP6: flow | JQ6: flow | JR6: flow | JS6: flow | JT6: flow | JU6: flow | JV6: flow | JW6: flow | JX6: flow | JY6: flow | JZ6: flow | KA6: flow | KB6: flow | KC6: flow | KD6: flow | KE6: flow | KF6: flow | KG6: flow | KH6: flow | KI6: flow | KJ6: flow | KK6: flow | KL6: flow | KM6: flow | KN6: flow | KO6: flow | KP6: flow | KQ6: flow | KR6: flow | KS6: flow | KT6: flow | KU6: flow | KV6: flow | KW6: flow | KX6: flow | KY6: flow | KZ6: flow | LA6: flow | LB6: flow | LC6: flow | LD6: flow | LE6: flow | LF6: flow | LG6: flow | LH6: flow | LI6: flow | LJ6: flow | LK6: flow | LL6: flow | LM6: flow | LN6: flow | LO6: flow | LP6: flow | LQ6: flow | LR6: flow | LS6: flow | LT6: flow | LU6: flow | LV6: flow | LW6: flow | LX6: flow | LY6: flow | LZ6: flow | MA6: flow | MB6: flow | MC6: flow | MD6: flow | ME6: flow | MF6: flow | MG6: flow | MH6: flow | MI6: flow | MJ6: flow | MK6: flow | ML6: flow | MM6: flow | MN6: flow | MO6: flow | MP6: flow | MQ6: flow | MR6: flow | MS6: flow | MT6: flow | MU6: flow | MV6: flow | MW6: flow | MX6: flow | MY6: flow | MZ6: flow | NA6: flow | NB6: flow | NC6: flow | ND6: flow | NE6: flow | NF6: flow | NG6: flow | NH6: flow | NI6: flow | NJ6: flow | NK6: flow | NL6: flow | NM6: flow | NN6: flow | NO6: flow | NP6: flow | NQ6: flow | NR6: flow | NS6: flow | NT6: flow | NU6: flow | NV6: flow | NW6: flow | NX6: flow | NY6: flow | NZ6: flow | OA6: flow | OB6: flow | OC6: flow | OD6: flow | OE6: flow | OF6: flow | OG6: flow | OH6: flow | OI6: flow | OJ6: flow | OK6: flow | OL6: flow | OM6: flow | ON6: flow | OO6: flow | OP6: flow | OQ6: flow | OR6: flow | OS6: flow | OT6: flow | OU6: flow | OV6: flow | OW6: flow | OX6: flow | OY6: flow | PA6: flow | PB6: flow | PG6: flow | PH6: flow | PI6: flow | PJ6: flow | PK6: flow | PL6: flow | PR6: price | PS6: ratio | PT6: stock | PU6: stock | PV6: stock | PW6: stock | PX6: stock | PY6: stock | PZ6: stock | QA6: stock | QB6: stock | QC6: stock | QD6: stock | QE6: stock | QF6: stock | QG6: stock | QH6: stock | QI6: stock | QJ6: stock | QK6: stock | QL6: stock | QM6: stock | QP6: stock | QR6: stock | RL6: =W6 -> flow | RM6: =CP6 -> flow
A7: sector | B7: France | C7: Rest of the world | D7: Households + NPISH | E7: Households | F7: Government | G7: NPISH | H7: Non-financial corporations | I7: Financial institutions | J7: Government | K7: Households | L7: NPISH | M7: Households + NPISH | N7: Households + NPISH | O7: Non-financial corporations | P7: Rest of the world | Q7: France | R7: Rest of the world | S7: Households + NPISH | T7: Households | U7: Government | V7: NPISH | W7: Non-financial corporations | X7: Financial institutions | Y7: Government | Z7: Households | AA7: NPISH | AB7: Households + NPISH | AC7: Households + NPISH | AD7: Non-financial corporations | AE7: Rest of the world | AF7: France | AG7: France | AH7: Rest of the world | AI7: Households + NPISH | AJ7: Households | AK7: Government | AL7: NPISH | AM7: Non-financial corporations | AN7: Financial institutions | AO7: Government | AP7: Households | AQ7: NPISH | AR7: Households + NPISH | AS7: Households + NPISH | AT7: Non-financial corporations | AU7: Rest of the world | AV7: Non-financial corporations | AW7: Non-financial corporations | AX7: Non-financial corporations | AY7: Non-financial corporations | AZ7: Non-financial corporations | BA7: Non-financial corporations | BB7: Non-financial corporations | BC7: Non-financial corporations | BD7: Non-financial corporations | BE7: Non-financial corporations | BF7: Non-financial corporations | BG7: Non-financial corporations | BH7: Non-financial corporations | BI7: Non-financial corporations | BJ7: Non-financial corporations | BK7: Non-financial corporations | BL7: Non-financial corporations | BM7: Non-financial corporations | BN7: Non-financial corporations | BO7: Non-financial corporations | BP7: Non-financial corporations | BQ7: Non-financial corporations | BR7: Non-financial corporations | BS7: Non-financial corporations | BT7: Non-financial corporations | BU7: Non-financial corporations | BV7: Non-financial corporations | BW7: Non-financial corporations | BX7: Non-financial corporations | BY7: Non-financial corporations | BZ7: Non-financial corporations | CA7: Non-financial corporations | CB7: Non-financial corporations | CC7: Non-financial corporations | CD7: Non-financial corporations | CE7: Non-financial corporations | CF7: Non-financial corporations | CG7: Non-financial corporations | CH7: Non-financial corporations | CI7: Non-financial corporations | CJ7: Non-financial corporations | CK7: Non-financial corporations | CL7: Non-financial corporations | CM7: Non-financial corporations | CN7: Non-financial corporations | CO7: Non-financial corporations | CP7: Non-financial corporations | CQ7: Non-financial corporations | CR7: Non-financial corporations | CS7: Non-financial corporations | CT7: Financial institutions | CU7: Financial institutions | CV7: Financial institutions | CW7: Financial institutions | CX7: Financial institutions | CY7: Financial institutions | CZ7: Financial institutions | DA7: Financial institutions | DB7: Financial institutions | DC7: Financial institutions | DD7: Financial institutions | DE7: Financial institutions | DF7: Financial institutions | DG7: Financial institutions | DH7: Financial institutions | DI7: Financial institutions | DJ7: Financial institutions | DK7: Financial institutions | DL7: Financial institutions | DM7: Financial institutions | DN7: Financial institutions | DO7: Financial institutions | DP7: Financial institutions | DQ7: Financial institutions | DR7: Financial institutions | DS7: Financial institutions | DT7: Financial institutions | DU7: Financial institutions | DV7: Financial institutions | DW7: Financial institutions | DX7: Financial institutions | DY7: Financial institutions | DZ7: Financial institutions | EA7: Financial institutions | EB7: Financial institutions | EC7: Financial institutions | ED7: Financial institutions | EE7: Financial institutions | EF7: Financial institutions | EG7: Financial institutions | EH7: Financial institutions | EI7: Financial institutions | EJ7: Financial institutions | EK7: Financial institutions | EL7: Financial institutions | EM7: Financial institutions | EN7: Financial institutions | EO7: Financial institutions | EP7: Financial institutions | EQ7: Financial institutions | ER7: Financial institutions | ES7: Financial institutions | ET7: Financial institutions | EU7: Financial institutions | EV7: Financial institutions | EW7: Financial institutions | EX7: Financial institutions | EY7: Government | EZ7: Government | FA7: Government | FB7: Government | FC7: Government | FD7: Government | FE7: Government | FF7: Government | FG7: Government | FH7: Government | FI7: Government | FJ7: Government | FK7: Government | FL7: Government | FM7: Government | FN7: Government | FO7: Government | FP7: Government | FQ7: Government | FR7: Government | FS7: Government | FT7: Government | FU7: Government | FV7: Government | FW7: Government | FX7: Government | FY7: Government | FZ7: Government | GA7: Government | GB7: Government | GC7: Government | GD7: Government | GE7: Government | GF7: Government | GG7: Government | GH7: Government | GI7: Government | GJ7: Government | GK7: Government | GL7: Government | GM7: Government | GN7: Government | GO7: Government | GP7: Government | GQ7: Government | GR7: Government | GS7: Government | GT7: Government | GU7: Government | GV7: Government | GW7: Government | GX7: Government | GY7: Government | GZ7: Government | HA7: Government | HB7: Government | HC7: Government | HD7: Government | HE7: Government | HF7: Government | HG7: Government | HH7: Government | HI7: Government | HJ7: Government | HK7: Government | HL7: Government | HM7: Government | HN7: Government | HO7: Government | HP7: Government | HQ7: Government | HR7: Government | HS7: Government | HT7: Government | HU7: Government | HV7: Government | HW7: Government | HX7: Government | HY7: Households | HZ7: NPISH | IA7: Households+NPISH | IB7: Households | IC7: NPISH | ID7: Households+NPISH | IE7: Households | IF7: NPISH | IG7: Households+NPISH | IH7: Households | II7: NPISH | IJ7: Households+NPISH | IK7: Households | IL7: NPISH | IM7: Households+NPISH | IN7: Households | IO7: Households | IP7: Households | IQ7: NPISH | IR7: NPISH | IS7: NPISH | IT7: Households+NPISH | IU7: Households | IV7: NPISH | IW7: Households+NPISH | IX7: Households | IY7: NPISH | IZ7: Households+NPISH | JA7: Households | JB7: Households+NPISH | JC7: Households | JD7: Households | JE7: Households+NPISH | JF7: Households | JG7: NPISH | JH7: Households+NPISH | JI7: Households | JJ7: Households+NPISH | JK7: Households | JL7: NPISH | JM7: Households+NPISH | JN7: Households | JO7: Households+NPISH | JP7: Households | JQ7: NPISH | JR7: Households+NPISH | JS7: Households | JT7: Households+NPISH | JU7: Households | JV7: Households | JW7: Households | JX7: Households+NPISH | JY7: Households+NPISH | JZ7: Households | KA7: Households | KB7: Households | KC7: NPISH | KD7: NPISH | KE7: NPISH | KF7: Households+NPISH | KG7: Households+NPISH | KH7: Households | KI7: Households | KJ7: Households+NPISH | KK7: Households | KL7: Households | KM7: Households | KN7: Households+NPISH | KO7: NPISH | KP7: Households+NPISH | KQ7: Households+NPISH | KR7: Households | KS7: Households | KT7: Households | KU7: NPISH | KV7: NPISH | KW7: NPISH | KX7: Households+NPISH | KY7: Households+NPISH | KZ7: Households | LA7: NPISH | LB7: Households+NPISH | LC7: Households | LD7: NPISH | LE7: Households+NPISH | LF7: Households | LG7: NPISH | LH7: Households+NPISH | LI7: Households | LJ7: Households | LK7: Households | LL7: NPISH | LM7: NPISH | LN7: NPISH | LO7: Households+NPISH | LP7: Households+NPISH | LQ7: Households | LR7: Households | LS7: Households | LT7: NPISH | LU7: Households+NPISH | LV7: Households+NPISH | LW7: Households | LX7: NPISH | LY7: Households+NPISH | LZ7: Households | MA7: Households+NPISH | MB7: Households | MC7: Households+NPISH | MD7: Households | ME7: Households+NPISH | MF7: Households | MG7: NPISH | MH7: Households+NPISH | MI7: Households | MJ7: Households | MK7: NPISH | ML7: Households | MM7: NPISH | MN7: Households+NPISH | MO7: Rest of the world | MP7: Rest of the world | MQ7: Rest of the world | MR7: Rest of the world | MS7: Rest of the world | MT7: Rest of the world | MU7: Rest of the world | MV7: Rest of the world | MW7: Rest of the world | MX7: Rest of the world | MY7: Rest of the world | MZ7: Rest of the world | NA7: Rest of the world | NB7: Rest of the world | NC7: Rest of the world | ND7: Rest of the world | NE7: Rest of the world | NF7: Rest of the world | NG7: Rest of the world | NH7: Rest of the world | NI7: Rest of the world | NJ7: Rest of the world | NK7: Rest of the world | NL7: Rest of the world | NM7: Rest of the world | NN7: Rest of the world | NO7: Rest of the world | NP7: Rest of the world | NQ7: Rest of the world | NR7: Rest of the world | NS7: Rest of the world | NT7: Rest of the world | NU7: Rest of the world | NV7: Rest of the world | NW7: Rest of the world | NX7: Rest of the world | NY7: Rest of the world | NZ7: Rest of the world | OA7: Rest of the world | OB7: Rest of the world | OC7: Rest of the world | OD7: Rest of the world | OE7: Rest of the world | OF7: Rest of the world | OG7: Rest of the world | OH7: Rest of the world | OI7: Rest of the world | OJ7: Rest of the world | OK7: Rest of the world | OL7: Rest of the world | OM7: Rest of the world | ON7: Rest of the world | OO7: Rest of the world | OP7: Rest of the world | OQ7: Rest of the world | OR7: Rest of the world | OS7: Rest of the world | OT7: Rest of the world | OU7: Rest of the world | OV7: Rest of the world | OW7: Rest of the world | OX7: Rest of the world | OY7: France | PA7: Banque de France | PB7: Banque de France | PG7: Banque de France | PH7: Banque de France | PI7: Banque de France | PJ7: Domestic sector | PK7: Domestic sector | PP7: Domestic sector | PQ7: Domestic sector | PT7: Non-financial corporations | PU7: Financial corporations | PV7: General government | PW7: Unincorporated entreprises | PX7: Households excluding unincorporated entreprises | PY7: Households excluding unincorporated entreprises | PZ7: Non-profit institutions serving households (NPISHs) | QA7: Total | QB7: Unincorporated entreprises | QC7: Total | QD7: Non-financial corporations | QE7: Financial corporations | QF7: General government | QG7: Unincorporated entreprises | QH7: Households excluding unincorporated entreprises | QI7: Non-profit institutions serving households (NPISHs) | QJ7: Non-profit institutions serving households (NPISHs) | QK7: Total | QL7: Unincorporated entreprises | QM7: Total | QN7: France | QO7: France hors Mayotte | QP7: France hors Mayotte | QQ7: France hors Mayotte | QR7: France hors Mayotte | QT7: FR - RoW | QU7: FR - RoW | QV7: France | QW7: France | QX7: RoW | QY7: France | QZ7: Euro area | RA7: France | RB7: France | RC7: World | RD7: France | RE7: France | RF7: France | RG7: France | RH7: France | RI7: France | RL7: =W7 -> Non-financial corporations | RM7: =CP7 -> Non-financial corporations
